BEGIN:VCALENDAR
VERSION:2.0
PRODID:-//Atelier Culinário - Sabine Hueck - ECPv6.1.3//NONSGML v1.0//EN
CALSCALE:GREGORIAN
METHOD:PUBLISH
X-WR-CALNAME:Atelier Culinário - Sabine Hueck
X-ORIGINAL-URL:https://sabinehueck.de
X-WR-CALDESC:Veranstaltungen für Atelier Culinário - Sabine Hueck
REFRESH-INTERVAL;VALUE=DURATION:PT1H
X-Robots-Tag:noindex
X-PUBLISHED-TTL:PT1H
BEGIN:VTIMEZONE
TZID:Europe/Berlin
BEGIN:DAYLIGHT
TZOFFSETFROM:+0100
TZOFFSETTO:+0200
TZNAME:CEST
DTSTART:20260329T010000
END:DAYLIGHT
BEGIN:STANDARD
TZOFFSETFROM:+0200
TZOFFSETTO:+0100
TZNAME:CET
DTSTART:20261025T010000
END:STANDARD
END:VTIMEZONE
BEGIN:VEVENT
DTSTART;TZID=Europe/Berlin:20260422T180000
DTEND;TZID=Europe/Berlin:20260422T220000
DTSTAMP:20260420T030823
CREATED:20260118T203938Z
LAST-MODIFIED:20260402T163144Z
UID:10301-1776880800-1776895200@sabinehueck.de
SUMMARY:Die Magie des Sauerteigs | Backkurs mit Ute
DESCRIPTION:(ENGLISH BELOW) \nMeistere die Kunst des Brotbackens \nIn unserem Backkurs zeigt Bäckerin Ute euch\, wie ihr richtig gutes Sauerteigbrot zu Hause backen könnt. In diesem Deep-Dive lernt ihr alles über Anstellgut\, Autolyse\, Krume und Kruste – das klingt nämlich alles komplizierter\, als es ist. Ihr bekommt einen Einblick in die verschiedenen Mehl- und Getreidesorten und ein gutes Gefühl für Teig und Fermentation. \nGemeinsam backen wir aus zwei Teigen ganz unterschiedliche Brote und Kleingebäck und genießen sie anschließend bei einer ganz besonderen Brotzeit mit feinen Spezialitäten und hausgemachten Fermenten\, die aus saisonalen und regionalen Zutaten von Produzentinnen der Markthalle Neun zubereitet werden. \nZum süßen Abschluss backen wir noch Buchteln und Kardamomschnecken – Leckerschmecker Zuckerbäcker! Begleitet wird das Ganze natürlich mit guten Flüssigfermenten und Cozy Atelier-Atmosphäre! \nAußerdem bekommt ihr alle ein tolles Starter-Kit mit Teigansätzen und einem „How-To-Sauerteig-Manual“\, um direkt zu Hause loszubacken. \n\n\nMENÜ  \nRoggenbrot\nWeizenbrot-Dinkelbrot\nBuchteln\nKardamomschnecke\nKleingebäck \n* \nPickle-Relish\nApfel-Zwiebel-Jus\nGeschlagene Röstzwiebelbutter\nGeschlagene Misobutter\nKäse von Alte Milch\nKaramelisiertes weiße Schokoladen Eis \n* \nGetränke (Wein\, Bier\, Softs) sowie\ndein eigener Sauerteigansatz für Zuhause sind inklusive \n\n  \nMaster the Art of Bread Baking \nIn our baking workshop\, baker Ute will show you how to bake truly great sourdough bread at home. In this deep dive\, you’ll learn everything about starter culture\, autolyse\, crumb\, and crust – all things that sound more complicated than they really are. You’ll gain insight into different types of flour and grains and develop a good feel for dough and fermentation. \nTogether\, we’ll use two different doughs to bake a variety of breads and small baked goods\, and then enjoy them during a very special bread tasting with fine specialties and house-made ferments\, prepared from seasonal and regional ingredients by producers from Markthalle Neun. \nTo finish on a sweet note\, we’ll also bake Buchteln and cardamom buns – a real treat for anyone with a sweet tooth! All of this is\, of course\, accompanied by excellent liquid ferments and a cozy atelier atmosphere. \nYou’ll also receive a great starter kit with dough cultures and a “how-to sourdough manual” so you can get started baking at home right away. \n\nMENU \nRye breadWheat–spelt breadBuchteln (sweet filled yeast buns)\nCardamom BunSmall baked goods / pastries \n* \nPickle relishApple–onion jusWhipped crispy onion butterWhipped miso butter\nCheese from Alte Milch\ncaramelized white chocolate Icecream \n* \nDrinks (Wine\, Beer\, Soft Drinks) as well as\nyour own sourdough starter to take home are included \n\n 
URL:https://sabinehueck.de/event/backkurs-mit-ute-peppersack/
ATTACH;FMTTYPE=image/png:https://sabinehueck.de/wp-content/uploads/2025/01/WhatsApp-Image-2025-01-08-at-11.52.03.png
END:VEVENT
END:VCALENDAR